Workbook
Name A: [1]ECABR!#REF!
Name A_impresión_IM: [1]ECABR!#REF!
Name abc: [2]TOTAL!#REF!
Name Abr: #REF!
Name B: [4]EGRESOS!#REF!
Name BASE: #REF!
Name CAS: [4]EGRESOS!#REF!
Name cba: [2]TOTAL!#REF!
Name ELOY: #REF!
Name Ene: #REF!
Name Feb: #REF!
Name Fecha: #REF!
Name HF: [6]T1705HF!$B$20:$B$20
Name ju: [5]REPORTO!#REF!
Name Jul: #REF!
Name Jun: #REF!
Name mao: [1]ECABR!#REF!
Name Mar: #REF!
Name May: #REF!
Name N: #REF!
Name NOTAS: [1]ECABR!#REF!
Name REPORTO: #REF!
Name TCAIE: [7]CH1902!$B$20:$B$20
Name TCFEEIS: #REF!
Name TRASP: #REF!
Name U: #REF!
Name x: #REF!
Name YAO: #REF!

Sheet PPI
B2: PROGRAMAS Y PROYECTOS DE INVERSIÓN
B3: Del 1 de Enero al 31 de Marzo del 2020
D5: Ente Público: | E5: INSTITUTO DE INFRAESTRUCTURA FÍSICA EDUCATIVA DE GUANAJUATO
B7: Tipo de Programas y Proyectos | E7: Programa o Proyecto | G7: UR | H7: Egresos | O7: Subejercicio | P7: % Avance Financiero
F8: Denominación | H8: Aprobado | I8: Ampliaciones/ (Reducciones) | J8: Modificado | K8: Comprometido | L8: Devengado | M8: Ejercido | N8: Pagado | P8: Devengado/ Aprobado | Q8: Devengado/ Modificado
H9: 1 | I9: 2 | J9: 3 = (1 + 2 ) | K9: 4 | L9: 5 | M9: 6 | N9: 7 | O9: 6 = ( 3 - 5 ) | P9: 5/1 | Q9: 5/3
B10: Q0303 | C10: Q0303 | D10: Q0303 | E10: Programa Anual de Obra de Infraestructura Educativa.- Fondo de Aportaciones Multiples (FAM) | F10: Construir nuevos espacios para los planteles educativos | G10: 3041 | H10: 407593296 | I10: 3352402.4 | J10: 4.109457e+08 | K10: 53534132 | L10: 0 | M10: 53898498 | N10: 364365.74 | O10: =+J10-L10 -> 4.109457e+08 | P10: =+L10/H10 -> 0 | Q10: =+L10/J10 -> 0
B11: Q0303 | C11: Q0303 | D11: Q0303 | E11: Programa Anual de Obra de Infraestructura Educativa.- Fondo de Aportaciones Multiples (FAM) | F11: Equipar los planteles de nueva creación con mobiliario | G11: 3041 | H11: 4410000 | I11: 0 | J11: 4410000 | K11: 0 | L11: 0 | M11: 0 | N11: 0 | O11: =+J11-L11 -> 4410000 | P11: =+L11/H11 -> 0 | Q11: =+L11/J11 -> 0
B12: Q2089 | E12: Fortalecimiento para la ejecución del Programa de Certificados de Infraestructura Escolar | F12: Integrar avances físicos y financieros en la ejecución de los recursos del Programa de Certificados de Infraestructura Educativa | G12: 3041 | H12: 9002261.8 | I12: 13997738 | J12: 23000000 | K12: 25361.64 | L12: 0 | M12: 0 | N12: 6936112.3 | O12: =+J12-L12 -> 23000000 | P12: =+L12/H12 -> 0 | Q12: =+L12/J12 -> 0
B13: Total del Gasto | H13: =SUM(H10:H12) -> 4.2100556e+08 | I13: =SUM(I10:I12) -> 17350141 | J13: =+H13+I13 -> 4.383557e+08 | K13: =SUM(K10:K12) -> 53559494 | L13: =SUM(L10:L12) -> 0 | M13: =SUM(M10:M12) -> 53898498 | N13: =SUM(N10:N12) -> 7300478.1 | O13: =SUM(O10:O12) -> 4.383557e+08
B14: Bajo protesta de decir verdad declaramos que los Estados Financieros y sus Notas son razonablemente correctos y responsabilidad del emisor
D19: _________________________________________________
D20: Ing. Pedro Peredo Medina | L20: C.P. Cecilio Zamarripa Aguirre
D21: Director General | L21: Director Administrativo

Sheet PK TRIM
B3: PROGRAMAS Y PROYECTOS DE INVERSIÓN
B4: Del 1 de Enero al 31 de Marzo del 2020
C6: Ente Público: | D6: INSTITUTO DE INFRAESTRUCTURA FISICA EDUCATIVA DE GUANAJUATO
B8: Clave del Programa/ Proyecto | C8: Nombre | D8: Descripción | E8: UR | F8: Inversión | I8: Metas | L8: % Avance Financiero | N8: % Avance Metas
F9: Aprobado | G9: Modificado | H9: Devengado | I9: Programado | J9: Modificado | K9: Alcanzado | L9: Devengado/ Aprobado | M9: Devengado / Modificado | N9: Alcanzado/ Programado | O9: Alcanzado/ Modificado
A10: 1 | B10: Q0303 | C10: Programa Anual de Obra de Infraestructura Educativa.- Fondo de Aportaciones Multiples (FAM) | D10: Construcción de nuevos espacios para los planteles educativos | E10: 3041 | F10: =+PPI!H10 -> 407593296 | G10: =+PPI!J10 -> 4.109457e+08 | H10: =+PPI!L10 -> 0 | I10: 241 | J10: 241 | K10: 59 | L10: =+H10/F10 -> 0 | M10: =+H10/G10 -> 0 | N10: =+K10/I10 -> 0.24481328 | O10: =+K10/J10 -> 0.24481328
A11: 2 | B11: Q0303 | C11: Programa Anual de Obra de Infraestructura Educativa.- Fondo de Aportaciones Multiples (FAM) | D11: Equipar los planteles de nueva creación con mobiliario (mesas,sillas,muebles de guardado y pizarrones) | E11: 3041 | F11: =+PPI!H11 -> 4410000 | G11: =+PPI!J11 -> 4410000 | H11: =+PPI!L11 -> 0 | I11: 7360 | J11: 7360 | K11: 0 | L11: =+H11/F11 -> 0 | M11: =+H11/G11 -> 0 | N11: =+K11/I11 -> 0 | O11: =+K11/J11 -> 0
A12: 6 | B12: Q2089 | C12: Fortalecimiento para la ejecución del Programa de Certificados de Infraestructura Escolar | D12: Integrar avances físicos y financieros en la ejecución de los recursos del Programa de Certificados de Infraestructura Educativa | E12: 3041 | F12: =+PPI!H12 -> 9002261.8 | G12: =+PPI!J12 -> 23000000 | H12: =+PPI!L12 -> 0 | I12: 24 | J12: 24 | K12: 6 | L12: =+H12/F12 -> 0 | M12: =+H12/G12 -> 0 | N12: =+K12/I12 -> 0.25 | O12: =+K12/J12 -> 0.25
B14: Bajo protesta de decir verdad declaramos que los Estados Financieros y sus Notas son razonablemente correctos y responsabilidad del emisor.
J18: _________________________________
D19: Ing. Pedro Peredo Medina | J19: C.P. Cecilio Zamarripa Aguirre
D20: Director General | J20: Director Administrativo
